<?xml version="1.0"?>
<!--<!DOCTYPE metadata SYSTEM "http://www.esri.com/metadata/esriprof80.dtd">-->
<metadata xml:lang="en"><Esri><MetaID>{C6877632-137D-4393-A7A2-60E01FB6C168}</MetaID><CreaDate>20090109</CreaDate><CreaTime>14261600</CreaTime><SyncOnce>FALSE</SyncOnce><SyncDate>20090113</SyncDate><SyncTime>12595400</SyncTime><ModDate>20090113</ModDate><ModTime>13001900</ModTime></Esri><idinfo><native Sync="TRUE">Microsoft Windows XP Version 5.1 (Build 2600) Service Pack 3; ESRI ArcCatalog 9.3.0.1770</native><descript><langdata Sync="TRUE">en</langdata><abstract>LANDSAT Thematic Mapper (TM) satellite imagery based land cover classification, circa 2006, for the state of Connecticut including local watersheds that intersect the state boundary, and towns in south central Massachusetts that are part of the Quinebaug and Shetucket Rivers Valley National Heritage Corridor. The classification depicts 12 land cover categories. These are: 1. Developed, 2. Turf &amp; Grass, 3. Other Grasses 4. Agriculture 5. Deciduous Forest, 6. Coniferous Forest, 7. Water, 8. Non-forested Wetland, 9. Forested Wetland, 10. Tidal Wetland, 11. Barren Land, 12. Utility Corridors. Source Landsat TM image data were from July 17, 2006 (due to a malfunction with the Scan Line Corrector mechanism in the Landsat ETM sensor on May, 2003, ETM images are collected with gaps along the edges of the scenes. These can be corrected by filling in the gaps with images collected from adjacent dates. Fortunately, three contiguous dates of Landsat image data (July 1, July 17, and August 2) were collected with minimal claoud cover to produce a gap filled image data product used for the 2006 classification). The classification was compiled using ERDAS Imagine 9.2 by the Center for Land use Education And Research (CLEAR) in the College of Agriculture and Natural Resources at the University of Connecticut.</abstract><purpose>To provide a synoptic view of general land cover for the greater Connecticut area circa 2006. The data is for general information purposes only and is not suitable for site-specific studies or litigation. The classification is intended for use in general, area-wide analysis that can tolerate the errors and inaccuracies within the data.</purpose><supplinf>NOTE: While derived from CCL v 1.02 land cover, this land cover classification is considered an update and upgrade to CCL v 1.02 land cover. This land cover is not compatible or comparable with CCL v 1.02 land cover products.
</supplinf></descript><citation><citeinfo><origin>Center for Land use Education And Research (CLEAR)</origin><pubdate>January 2009</pubdate><title Sync="TRUE">2006lc_091508_v2-02_ctstp83.img</title><ftname Sync="TRUE">2006lc_091508_v2-02_ctstp83.img</ftname><onlink>http:\\clear.uconn.edu</onlink><geoform Sync="TRUE">remote-sensing image</geoform><edition>version 2.02</edition><serinfo><sername>Connecticut's Changing Landscape Land Cover</sername></serinfo><pubinfo><pubplace>Storrs, CT</pubplace><publish>Center for Land use Education And Research (CLEAR)</publish></pubinfo></citeinfo></citation><timeperd><current>Time period based on satellite image collection date.</current><timeinfo><sngdate><caldate>2006</caldate></sngdate></timeinfo></timeperd><status><progress>Complete</progress><update>Unknown</update></status><spdom><bounding><westbc Sync="TRUE">-73.755861</westbc><eastbc Sync="TRUE">-71.737841</eastbc><northbc Sync="TRUE">42.313836</northbc><southbc Sync="TRUE">40.936281</southbc></bounding><lboundng><leftbc Sync="TRUE">727902.000000</leftbc><rightbc Sync="TRUE">1273802.000000</rightbc><bottombc Sync="TRUE">539080.000000</bottombc><topbc Sync="TRUE">1039480.000000</topbc></lboundng></spdom><keywords><theme><themekt>FGDC</themekt><themekey>Land Cover</themekey><themekey>Land Use</themekey><themekey>Remote Sensing</themekey><themekey>Classification</themekey><themekey>LANDSAT</themekey><themekey>Thematic Mapper</themekey><themekey>Satellite Imagery</themekey></theme><place><placekey>Connecticut</placekey><placekey>Quinebaug and Shetucket Rivers Valley National Heritage Corridor</placekey></place></keywords><accconst>None</accconst><useconst>These data are the intellectual property of the Center for Land use Education And Research (CLEAR) at the University of Connecticut. They may be used for educational and non-commercial purposes provided proper attribution is given. CLEAR permits but does not support secondary distribution of this data. CLEAR is committed to offering users accurate, useful, and current information about the state. Although every effort has been made to ensure the accuracy of information, errors and conditions originating from the source data and processing may be reflected in the data supplied. The user must be aware of data conditions and bear responsibility for the appropriate use of the information with respect to possible errors, original map scale, collection methodology, currency of data, and other conditions specific to this data.</useconst><natvform Sync="TRUE">Raster Dataset</natvform><ptcontac><cntinfo><cntperp><cntper>Sandy Prisloe</cntper><cntorg>Center for Land use Education And Research (CLEAR), The University of Connecticut</cntorg></cntperp><cntpos>Geospatial Extension Specialist</cntpos><cntvoice>(860) 345-4511</cntvoice><cntfax>(860) 345-3357</cntfax><cntemail>sandy.prisloe@uconn.edu</cntemail><hours>9:00 - 5:00 Eastern Standard Time</hours><cntaddr><addrtype>mailing address</addrtype><address>1066 Saybrook Road, PO Box 70</address><city>Haddam</city><state>Connecticut</state><postal>06432-0070</postal><country>United States</country></cntaddr></cntinfo></ptcontac><crossref><citeinfo><origin>Center for Land use Education And Research (CLEAR)</origin><pubdate>January 2009</pubdate><title>2006 Land Cover, Greater Connecticut</title><edition>version 2.02</edition><geoform>map</geoform><serinfo><sername>Connecticut's Changing Landscape Land Cover</sername></serinfo><pubinfo><pubplace>Storrs, CT</pubplace><publish>Center for Land use Education And Research (CLEAR)</publish></pubinfo><onlink>http://clear.uconn.edu</onlink></citeinfo></crossref></idinfo><dataIdInfo><envirDesc Sync="TRUE">Microsoft Windows XP Version 5.1 (Build 2600) Service Pack 3; ESRI ArcCatalog 9.3.0.1770</envirDesc><dataLang><languageCode Sync="TRUE" value="en"></languageCode></dataLang><idCitation><resTitle Sync="TRUE">2006lc_091508_v2-02_ctstp83.img</resTitle><presForm><PresFormCd Sync="TRUE" value="005"></PresFormCd></presForm></idCitation><spatRpType><SpatRepTypCd Sync="TRUE" value="002"></SpatRepTypCd></spatRpType><dataExt><geoEle><GeoBndBox esriExtentType="native"><westBL Sync="TRUE">727902</westBL><eastBL Sync="TRUE">1273802</eastBL><northBL Sync="TRUE">1039480</northBL><southBL Sync="TRUE">539080</southBL><exTypeCode Sync="TRUE">1</exTypeCode></GeoBndBox></geoEle></dataExt><geoBox esriExtentType="decdegrees"><westBL Sync="TRUE">-73.755861</westBL><eastBL Sync="TRUE">-71.737841</eastBL><northBL Sync="TRUE">42.313836</northBL><southBL Sync="TRUE">40.936281</southBL><exTypeCode Sync="TRUE">1</exTypeCode></geoBox></dataIdInfo><metainfo><langmeta Sync="TRUE">en</langmeta><metstdn Sync="TRUE">FGDC Content Standards for Digital Geospatial Metadata</metstdn><metstdv Sync="TRUE">FGDC-STD-001-1998</metstdv><mettc Sync="TRUE">local time</mettc><metc><cntinfo><cntorgp><cntper>James Hurd</cntper><cntorg>Center for Land use Education And Research (CLEAR), The University of Connecticut</cntorg></cntorgp><cntaddr><addrtype>mailing address</addrtype><city>Storrs</city><state>Connecticut</state><postal>06269-4087</postal><address>The University of Connecticut</address><address>U-4087, Room 308, 1376 Storrs Road</address><country>United States</country></cntaddr><cntvoice>(860) 486-2840</cntvoice><cntpos>Research Associate</cntpos><cntfax>(860) 486-5408</cntfax><cntemail>james.hurd_jr@uconn.edu</cntemail><hours>9:00 - 5:00 Eastern Standard Time</hours></cntinfo></metc><metd Sync="TRUE">20090113</metd><metextns><onlink Sync="TRUE">http://www.esri.com/metadata/esriprof80.html</onlink><metprof Sync="TRUE">ESRI Metadata Profile</metprof></metextns></metainfo><mdLang><languageCode Sync="TRUE" value="en"></languageCode></mdLang><mdStanName Sync="TRUE">ISO 19115 Geographic Information - Metadata</mdStanName><mdStanVer Sync="TRUE">DIS_ESRI1.0</mdStanVer><mdChar><CharSetCd Sync="TRUE" value="004"></CharSetCd></mdChar><mdHrLv><ScopeCd Sync="TRUE" value="005"></ScopeCd></mdHrLv><mdHrLvName Sync="TRUE">dataset</mdHrLvName><distInfo><distributor><distorTran><onLineSrc><linkage Sync="TRUE">file://\\HURDOFFICEPC\C$\Projects\ccl_land_cover\CCL_land_cover\CT_STP_NAD83\version_2_CCL\2006lc_091508_v2-02_ctstp83.img</linkage><protocol Sync="TRUE">Local Area Network</protocol><orDesc Sync="TRUE">002</orDesc></onLineSrc><transSize Sync="TRUE">0.000</transSize></distorTran><distorFormat><formatName Sync="TRUE">Raster Dataset</formatName></distorFormat></distributor></distInfo><distinfo><resdesc Sync="TRUE">Downloadable Data</resdesc><stdorder><digform><digtinfo><transize>up to 5.6 Mbytes</transize><dssize>up to 14 Mbytes</dssize><formname>ERDAS IMAGINE</formname><formvern>ERDAS IMAGINE 9.2</formvern><formcont>Data can be downloaded for the entire analysis area, within Connecticut boundary, or by Connecticut Planning Region</formcont><filedec>ZIP file</filedec></digtinfo></digform><fees>Free</fees><ordering>Go to http://clear.uconn.edu/projects/landscape/download.asp

Fill out the online Registration Form to access the download page.</ordering></stdorder><distrib><cntinfo><cntperp><cntper>Sandy Prisloe</cntper><cntorg>Center for Land use Education And Research (CLEAR), The University of Connecticut</cntorg></cntperp><cntpos>Geospatial Extension Specialist</cntpos><cntaddr><addrtype>mailing address</addrtype><address>1066 Saybrook Road, PO Box 70</address><city>Haddam</city><state>Connecticut</state><postal>06438-0070</postal><country>United States</country></cntaddr><cntvoice>(860) 345-4511</cntvoice><cntfax>(860) 345-3357</cntfax><cntemail>sandy.prisloe@uconn.edu</cntemail><hours>9:00-5:00 eastern Standard Time</hours></cntinfo></distrib></distinfo><spdoinfo><direct Sync="TRUE">Raster</direct><rastinfo><rasttype Sync="TRUE">Pixel</rasttype><rowcount Sync="TRUE">5004</rowcount><colcount Sync="TRUE">5459</colcount><rastxsz Sync="TRUE">100.000000</rastxsz><rastysz Sync="TRUE">100.000000</rastysz><rastbpp Sync="TRUE">4</rastbpp><vrtcount Sync="TRUE">1</vrtcount><rastorig Sync="TRUE">Upper Left</rastorig><rastcmap Sync="TRUE">TRUE</rastcmap><rastcomp Sync="TRUE">None</rastcomp><rastband Sync="TRUE">1</rastband><rastdtyp Sync="TRUE">pixel codes</rastdtyp><rastplyr Sync="TRUE">TRUE</rastplyr><rastifor Sync="TRUE">IMAGINE Image</rastifor></rastinfo></spdoinfo><spref><horizsys><cordsysn><geogcsn Sync="TRUE">GCS_North_American_1983</geogcsn><projcsn Sync="TRUE">NAD_1983_StatePlane_Connecticut_FIPS_0600_Feet</projcsn></cordsysn><planar><planci><plance Sync="TRUE">row and column</plance><plandu Sync="TRUE">survey feet</plandu><coordrep><absres Sync="TRUE">100.000000</absres><ordres Sync="TRUE">100.000000</ordres></coordrep></planci><mapproj><mapprojn Sync="TRUE">Lambert Conformal Conic</mapprojn><lambertc><stdparll Sync="TRUE">41.200000</stdparll><stdparll Sync="TRUE">41.866667</stdparll><longcm Sync="TRUE">-72.750000</longcm><latprjo Sync="TRUE">40.833333</latprjo><feast Sync="TRUE">999999.999996</feast><fnorth Sync="TRUE">499999.999998</fnorth></lambertc></mapproj></planar><geodetic><horizdn Sync="TRUE">North American Datum of 1983</horizdn><ellips Sync="TRUE">Geodetic Reference System 80</ellips><semiaxis Sync="TRUE">6378137.000000</semiaxis><denflat Sync="TRUE">298.257222</denflat></geodetic></horizsys></spref><refSysInfo><RefSystem><refSysID><identCode Sync="TRUE">NAD_1983_StatePlane_Connecticut_FIPS_0600_Feet</identCode></refSysID></RefSystem></refSysInfo><spatRepInfo><GridSpatRep><numDims Sync="TRUE">2</numDims><cellGeo><CellGeoCd Sync="TRUE" value="002"></CellGeoCd></cellGeo><tranParaAv Sync="TRUE">1</tranParaAv><axDimProps><Dimen><dimName><DimNameTypCd Sync="TRUE" value="002"></DimNameTypCd></dimName><dimSize Sync="TRUE">5459</dimSize><dimResol><value Sync="TRUE">100</value><uom><UomLength><uomName Sync="TRUE">Foot_US</uomName><conversionToISOstandardUnit Sync="TRUE">1 Foot_US = 0.304801 Meter(s)</conversionToISOstandardUnit></UomLength></uom></dimResol></Dimen><Dimen><dimName><DimNameTypCd Sync="TRUE" value="001"></DimNameTypCd></dimName><dimSize Sync="TRUE">5004</dimSize><dimResol><value Sync="TRUE">100</value><uom><UomLength><uomName Sync="TRUE">Foot_US</uomName><conversionToISOstandardUnit Sync="TRUE">1 Foot_US = 0.304801 Meter(s)</conversionToISOstandardUnit></UomLength></uom></dimResol></Dimen></axDimProps></GridSpatRep></spatRepInfo><eainfo><detailed Name="2006lc_091508_v2-02_ctstp83.img.vat"><enttyp><enttypl Sync="TRUE">2006lc_091508_v2-02_ctstp83.img.vat</enttypl><enttypt Sync="TRUE">Table</enttypt><enttypc Sync="TRUE">13</enttypc></enttyp><attr><attrlabl Sync="TRUE">ObjectID</attrlabl><attalias Sync="TRUE">ObjectID</attalias><attrtype Sync="TRUE">OID</attrtype><attwidth Sync="TRUE">4</attwidth><atprecis Sync="TRUE">0</atprecis><attscale Sync="TRUE">0</attscale><attrdef Sync="TRUE">Internal feature number.</attrdef><attrdefs Sync="TRUE">ESRI</attrdefs><attrdomv><udom Sync="TRUE">Sequential unique whole numbers that are automatically generated.</udom></attrdomv></attr><attr><attrlabl Sync="TRUE">Value</attrlabl><attalias Sync="TRUE">Value</attalias><attrtype Sync="TRUE">Integer</attrtype><attwidth Sync="TRUE">0</attwidth><atprecis Sync="TRUE">0</atprecis><attscale Sync="TRUE">0</attscale><attrdef>Class numerical identifier (see class name description)</attrdef></attr><attr><attrlabl Sync="TRUE">Red</attrlabl><attalias Sync="TRUE">Red</attalias><attrtype Sync="TRUE">Double</attrtype><attwidth Sync="TRUE">0</attwidth><atprecis Sync="TRUE">0</atprecis><attscale Sync="TRUE">0</attscale><attrdef>Red class color value (0-255)</attrdef></attr><attr><attrlabl Sync="TRUE">Green</attrlabl><attalias Sync="TRUE">Green</attalias><attrtype Sync="TRUE">Double</attrtype><attwidth Sync="TRUE">0</attwidth><atprecis Sync="TRUE">0</atprecis><attscale Sync="TRUE">0</attscale><attrdef>Green class color value (0-255)</attrdef></attr><attr><attrlabl Sync="TRUE">Blue</attrlabl><attalias Sync="TRUE">Blue</attalias><attrtype Sync="TRUE">Double</attrtype><attwidth Sync="TRUE">0</attwidth><atprecis Sync="TRUE">0</atprecis><attscale Sync="TRUE">0</attscale><attrdef>Blue class color value (0-255)</attrdef></attr><attr><attrlabl Sync="TRUE">Count</attrlabl><attalias Sync="TRUE">Count</attalias><attrtype Sync="TRUE">Double</attrtype><attwidth Sync="TRUE">0</attwidth><atprecis Sync="TRUE">0</atprecis><attscale Sync="TRUE">0</attscale><attrdef>Number of pixels identified as a class feature</attrdef></attr><attr><attrlabl Sync="TRUE">Class_names</attrlabl><attalias Sync="TRUE">Class_names</attalias><attrtype Sync="TRUE">String</attrtype><attwidth Sync="TRUE">32</attwidth><atprecis Sync="TRUE">0</atprecis><attscale Sync="TRUE">0</attscale><attrdomv><edom><edomv>1. Developed</edomv><edomvd>High-density built-up areas typically associated with commercial, industrial and residential activities and transportation routes. These areas can be expected to contain a significant amount of impervious surfaces, roofs, roads, and other concrete and asphalt surfaces.</edomvd></edom><edom><edomv>2. Turf &amp; Grass</edomv><edomvd>A compound category of undifferentiated maintained grasses associated mostly with developed areas. This class contains cultivated lawns typical of residential neighborhoods, parks, cemeteries, golf courses, turf farms, and other maintained grassy areas. Also includes some agricultural fields due to similar spectral reflectance properties</edomvd></edom><edom><edomv>3. Other Grasses</edomv><edomvd>Includes non-maintained grassy areas commonly found along transportation routes and other developed areas, and within and surrounding airport properties. Also likely to include forested clear-cut areas, and some abandoned agricultural areas that appear to be undergoing conversion to woody scrub and shrub cover.</edomvd></edom><edom><edomv>4. Agricultural Fields</edomv><edomvd>Includes areas that are under agricultural uses such as crop production and/or active pasture. Also likely to include some abandoned agricultural areas that have not undergone conversion to woody vegetation.</edomvd></edom><edom><edomv>5. Deciduous Forest</edomv><edomvd>Includes southern New England mixed hardwood forests. Also includes scrub areas characterized by patches of dense woody vegetation. May include isolated low density residential areas.</edomvd></edom><edom><edomv>6. Coniferous Forest</edomv><edomvd>Includes southern New England mixed softwood forests. May include isolated low density residential areas.</edomvd></edom><edom><edomv>7. Water</edomv><edomvd>Open water bodies and watercourses with relatively deep water.</edomvd></edom><edom><edomv>8. Non-forested Wetland</edomv><edomvd>Includes areas that predominately are wet throughout most of the year and that have a detectable vegetative cover (therefore not open water). Also includes some small water courses due to spectral characteristics of mixed pixels that include both water and vegetation.</edomvd></edom><edom><edomv>9. Forested Wetland</edomv><edomvd>Includes areas depicted as wetland, but with forested cover. Also includes some small water courses due to spectral characteristics of mixed pixels that include both water and vegetation.</edomvd></edom><edom><edomv>10. Tidal Wetland</edomv><edomvd>Emergent wetlands, wet throughout most of the year, with distinctive marsh vegetation and located in areas influenced by tidal change.</edomvd></edom><edom><edomv>11. Barren</edomv><edomvd>Mostly non-agricultural areas free from vegetation, such as sand, sand and gravel operations, bare exposed rock, mines, and quarries. Also includes some urban areas where the composition of construction materials spectrally resembles more natural materials. Also includes some bare soil agricultural fields.</edomvd></edom><edom><edomv>12. Utility Corridors</edomv><edomvd>Includes utility corridors. This category was manually digitized on-screen from corridors visible in the Landsat satellite imagery. The class was digitized within the deciduous and coniferous categories only.</edomvd></edom></attrdomv><attrdef>Class name</attrdef></attr><attr><attrlabl Sync="TRUE">Opacity</attrlabl><attalias Sync="TRUE">Opacity</attalias><attrtype Sync="TRUE">Double</attrtype><attwidth Sync="TRUE">0</attwidth><atprecis Sync="TRUE">0</atprecis><attscale Sync="TRUE">0</attscale><attrdef>Transparency level of class feature (0-1)</attrdef></attr><attr><attrlabl Sync="TRUE">Acres</attrlabl><attalias Sync="TRUE">Acres</attalias><attrtype Sync="TRUE">Double</attrtype><attwidth Sync="TRUE">0</attwidth><atprecis Sync="TRUE">0</atprecis><attscale Sync="TRUE">0</attscale><attrdef>Area of land cover feature.</attrdef></attr><attr><attrlabl Sync="TRUE">Sq mi</attrlabl><attalias Sync="TRUE">Sq mi</attalias><attrtype Sync="TRUE">Double</attrtype><attwidth Sync="TRUE">0</attwidth><atprecis Sync="TRUE">0</atprecis><attscale Sync="TRUE">0</attscale><attrdef>Area of land cover feature.</attrdef></attr></detailed><overview><dsoverv>The primary goal for the creation of this land cover was to gain a better understanding of land cover across the Connecticut landscape and to depict land cover change. To achieve this, this circa 2006 land cover was generated in conjunction with 1985, 1990, 1995 and 2002 land cover. The analysis area is the entire State of Connecticut including local watersheds that intersect the state boundary, and a portion of south central Massachusetts. A secondary goal was to develop a temporal series of basic land cover information that would allow the application of landscape characterization models developed under the NAUTILUS program -- a NASA Regional Earth Science Applications Center (RESAC) at the University of Connecticut. These models consist of a forest fragmentation map, state of forest fragmentation index, urban (development) growth analysis, and impervious surface estimation. Each of these models utilizes land cover information, and land cover that is consistent between each date is necessary to produce reliable results over time.</dsoverv><eaover>The 12 land cover categories represent general land cover features as they existed during the time of the Landsat Thematic Mapper image collection. These categories were selected based on the constraints of the source imagery, but also on the goals of the project. By maintaining general land cover categories, it can be expected that thematic accuracy will be higher.</eaover></overview></eainfo><mdDateSt Sync="TRUE">20090113</mdDateSt><dataqual><lineage><procstep><proccont><cntinfo><cntaddr><address>The University of Connecticut</address><addrtype>mailing address</addrtype><address>U-4087, Room 308, 1376 Storrs Road</address><city>Storrs</city><state>Connecticut</state><postal>06269-4087</postal><country>United States</country></cntaddr><cntperp><cntper>James Hurd</cntper><cntorg>Center for Land use Education And Research (CLEAR), The University of Connecticut</cntorg></cntperp><cntpos>Research Associate</cntpos><cntvoice>(860) 468-2840</cntvoice><cntfax>(860) 486-5408</cntfax><cntemail>james.hurd_jr@uconn.edu</cntemail><hours>9:00-5:00 Eastern Standard Time</hours></cntinfo></proccont><procsv>ERDAS IMAGINE 9.2</procsv><procdesc>CROSS-CORRELATION ANALYSIS: The 2006 land cover was derived from a base 2002 land cover using Cross-correlation Analysis (CCA). This method was developed by EARTHSAT, Inc. Cross-correlation works by using the land cover categories identified in the base land cover image (2002) to derive an "expected" class average spectral response from another set of image data (2006 Landsat). This information is used to derive a Z-statistic for each pixel falling within a given land cover type. The Z-statistic describes how close a pixel's response is to the "expected" spectral response of its corresponding class value in the land cover image. Pixels that have undergone change between the date of the land cover image and the Landsat image will produce high Z-statistic values while pixels that have not changed will produce low Z-statistic values. The benefit of this technique is that it eliminates the problems associated with radiometric and phenological differences that are so readily experienced when performing change detection.</procdesc><procdate>2007</procdate></procstep><procstep>